BEGIN:VCALENDAR
VERSION:2.0
PRODID:-//Tukios.com/
BEGIN:VEVENT
UID:11174222-c653-404d-bade-d6f2d71a13fa@www.korsmofuneralservice.com
DTSTAMP:20260423T121125Z
DTSTART:20260502T193000Z
DTEND:20260502T203000Z
SUMMARY:Military Honors
DESCRIPTION:
URL:https://www.korsmofuneralservice.com/obituaries/glenn-tornell
LOCATION:Brewtus Clubhouse at the Osgood Golf Course 4400 Clubhouse Drive 
	South  Fargo ND 58104
GEO:46.814177;-96.8891977
END:VEVENT
END:VCALENDAR