BEGIN:VCALENDAR
VERSION:2.0
PRODID:-//Tukios.com/
BEGIN:VEVENT
UID:6158c39f-65c1-466e-9222-8a45491b9cf2@www.korsmofuneralservice.com
DTSTAMP:20260423T121533Z
DTSTART:20260502T180000Z
DTEND:20260502T210000Z
SUMMARY:Celebration of Life
DESCRIPTION:
URL:https://www.korsmofuneralservice.com/obituaries/glenn-tornell
LOCATION:Brewtus Clubhouse at the Osgood Golf Course 4400 Clubhouse Drive 
	South  Fargo ND 58104
GEO:46.8142032;-96.8892298
END:VEVENT
END:VCALENDAR